BEGIN:VCALENDAR
VERSION:2.0
PRODID:-//moustachesociety.com - ECPv6.15.14//NONSGML v1.0//EN
CALSCALE:GREGORIAN
METHOD:PUBLISH
X-WR-CALNAME:moustachesociety.com
X-ORIGINAL-URL:https://moustachesociety.com
X-WR-CALDESC:Events for moustachesociety.com
REFRESH-INTERVAL;VALUE=DURATION:PT1H
X-Robots-Tag:noindex
X-PUBLISHED-TTL:PT1H
BEGIN:VTIMEZONE
TZID:Asia/Muscat
BEGIN:STANDARD
TZOFFSETFROM:+0400
TZOFFSETTO:+0400
TZNAME:+04
DTSTART:20250101T000000
END:STANDARD
END:VTIMEZONE
BEGIN:VEVENT
DTSTART;TZID=Asia/Muscat:20260422T190000
DTEND;TZID=Asia/Muscat:20260422T210000
DTSTAMP:20260421T181508
CREATED:20260420T081232Z
LAST-MODIFIED:20260420T081232Z
UID:10330-1776884400-1776891600@moustachesociety.com
SUMMARY:BI WEEKLY BOARD GAMES NIGHT
DESCRIPTION:Don’t have a group to play with? Neither did most of our members. Now they can’t stop coming back. \nJoin Muscat Moustache Society for a bi-weekly board games night at Good Idea Cafe. Show up alone\, leave with friends. All games provided. Snacks included. No experience needed\, just bring yourself. \n📅 Wednesday 22nd April 🔁 Every other Wednesday after that ⏰ 7:00 PM — 9:00 PM 📍 Good Idea Cafe\, Muscat 🎟️ 3 OMR — includes drinks🔗 Book your spot at the link — places are limited \nthe payment is processed in AED pls do not worry you will be charged in OMR
URL:https://moustachesociety.com/event/bi-weekly-board-games-night-2/
LOCATION:Good Idea cafe\, Al khuwair Darwazat\, Al Khuwair St\, Muscat\, Muscat\, Oman
CATEGORIES:EVENTS
ATTACH;FMTTYPE=image/jpeg:https://moustachesociety.com/wp-content/uploads/2025/09/IMG_3679.jpg
END:VEVENT
BEGIN:VEVENT
DTSTART;TZID=Asia/Muscat:20260423T210000
DTEND;TZID=Asia/Muscat:20260423T220000
DTSTAMP:20260421T181508
CREATED:20260420T081617Z
LAST-MODIFIED:20260420T081617Z
UID:10333-1776978000-1776981600@moustachesociety.com
SUMMARY:⚽ Moustache Football: 7 A SIDE TURF
DESCRIPTION:Date: Thursday\, 23rd April \n\n\nTime: 9 Pm – 8 Pm \n\n\nLocation: A bawsher \n\n\nPrice: 1.1 OMR per person \n\n\nCurrency Notice: Payment is processed as 11 AED. Please do not worry; this is the equivalent of 1.1 OMR. \n\n\nThe Vibe: High-energy 7-a-side. Water and snacks included
URL:https://moustachesociety.com/event/%e2%9a%bd-moustache-football-7-a-side-turf-4/
LOCATION:Amigos Park\, G9QR+RG Muscat\, Oman\, muscat\, G9QR+RG Muscat\, Oman\, Oman
CATEGORIES:Football
ATTACH;FMTTYPE=image/jpeg:https://moustachesociety.com/wp-content/uploads/2025/09/IMG_7136.jpg
END:VEVENT
BEGIN:VEVENT
DTSTART;TZID=Asia/Muscat:20260425T110000
DTEND;TZID=Asia/Muscat:20260425T130000
DTSTAMP:20260421T181508
CREATED:20260420T081913Z
LAST-MODIFIED:20260420T081913Z
UID:10336-1777114800-1777122000@moustachesociety.com
SUMMARY:The JamPad: Startup Brainstorming & Founder Meetup 💡
DESCRIPTION:Got a startup idea? Stuck on a business problem? Join the MMS JamPad at youth centre. We’re a group of builders and dreamers helping each other win.\n* Price: 2 OMR \nWe charge a small fee to ensure that every person who RSVPs actually attends\, plus you get to choose from a selection of 16 drinks! INCLUDED in your ticket! This also  ensures a high quality environment where you are not waiting around for people to show up! \n\nCurrency Notice: Payment is processed as 20 AED. Please do not worry; this is the equivalent of 2 OMR.
URL:https://moustachesociety.com/event/the-jampad-startup-brainstorming-founder-meetup-%f0%9f%92%a1-2/
LOCATION:Department Of Coffee\, Sabco Shopping Centre\, Muscat 113\, Muscat\, Oman
ATTACH;FMTTYPE=image/jpeg:https://moustachesociety.com/wp-content/uploads/2025/09/669154aa-3496-41a2-9fca-d45c9efab86a.jpg
END:VEVENT
BEGIN:VEVENT
DTSTART;TZID=Asia/Muscat:20260425T173000
DTEND;TZID=Asia/Muscat:20260425T190000
DTSTAMP:20260421T181508
CREATED:20260420T082047Z
LAST-MODIFIED:20260420T082047Z
UID:10339-1777138200-1777143600@moustachesociety.com
SUMMARY:🎾 Moustache Padel: Open Social Beginner Friendly
DESCRIPTION:Time: 5:30 PM – 7:00 PM \n\n\nLocation: Smash Padel\, Al Khuwair \n\n\nPrice: 3.6 OMR per person \n\n\nCurrency Notice: Payment is processed as 36 AED. This is the official equivalent of 3.6 OMR. \n\n\nLevel: Open to all levels—from beginners to pro-parody stars.
URL:https://moustachesociety.com/event/%f0%9f%8e%be-moustache-padel-open-social-beginner-friendly-2/
LOCATION:Smash Padel\, HCV8+CQ Muscat\, Oman\, Muscat\, HCV8+CQ Muscat\, Oman\, Oman
CATEGORIES:PADEL
ATTACH;FMTTYPE=image/jpeg:https://moustachesociety.com/wp-content/uploads/2025/09/IMG_7959.jpg
END:VEVENT
BEGIN:VEVENT
DTSTART;TZID=Asia/Muscat:20260425T200000
DTEND;TZID=Asia/Muscat:20260425T210000
DTSTAMP:20260421T181508
CREATED:20260420T082256Z
LAST-MODIFIED:20260420T082256Z
UID:10342-1777147200-1777150800@moustachesociety.com
SUMMARY:⚽ Moustache Football: 7 A SIDE TURF
DESCRIPTION:Date: Saturday\, 25th April \n\n\nTime: 8 PM – 9 Pm \n\n\nLocation: A bawsher \n\n\nPrice: 1.1 OMR per person \n\n\nCurrency Notice: Payment is processed as 11 AED. Please do not worry; this is the equivalent of 1.1 OMR. \n\n\nThe Vibe: High-energy 7-a-side. Water and snacks included
URL:https://moustachesociety.com/event/%e2%9a%bd-moustache-football-7-a-side-turf-5/
LOCATION:Amigos Park\, G9QR+RG Muscat\, Oman\, muscat\, G9QR+RG Muscat\, Oman\, Oman
ATTACH;FMTTYPE=image/jpeg:https://moustachesociety.com/wp-content/uploads/2025/09/IMG_6700-rotated.jpg
END:VEVENT
END:VCALENDAR