BEGIN:VCALENDAR
VERSION:2.0
PRODID:-//moustachesociety.com - ECPv6.15.14//NONSGML v1.0//EN
CALSCALE:GREGORIAN
METHOD:PUBLISH
X-ORIGINAL-URL:https://moustachesociety.com
X-WR-CALDESC:Events for moustachesociety.com
REFRESH-INTERVAL;VALUE=DURATION:PT1H
X-Robots-Tag:noindex
X-PUBLISHED-TTL:PT1H
BEGIN:VTIMEZONE
TZID:Asia/Muscat
BEGIN:STANDARD
TZOFFSETFROM:+0400
TZOFFSETTO:+0400
TZNAME:+04
DTSTART:20250101T000000
END:STANDARD
END:VTIMEZONE
BEGIN:VEVENT
DTSTART;TZID=Asia/Muscat:20260103T190000
DTEND;TZID=Asia/Muscat:20260103T210000
DTSTAMP:20260422T061523
CREATED:20251231T112826Z
LAST-MODIFIED:20260101T181456Z
UID:9799-1767466800-1767474000@moustachesociety.com
SUMMARY:Padel Al Khoud - 3.5 OMR Per Person
DESCRIPTION:Join the Moustache society in a game if padel on Thursday the 1st of January honestly a great way to start the new year! \nPadel game on Thursday\nLevel : average- slightly below average\nLocation : padel fun alkhoud\nTime: 7-9pm \n  \nplease pay 3.5 OMR to 92122934 to confirm booking in case of cancellation full refund will be given
URL:https://moustachesociety.com/event/padel-al-khoud-3-5-omr-per-person/
LOCATION:Padel Fun Al Khoud\, J5VP+M55\, A Salaam St\, Seeb\, Oman\, Muscat\, Oman
ATTACH;FMTTYPE=image/jpeg:https://moustachesociety.com/wp-content/uploads/2025/08/00xp-padel-78689-cover-videoSixteenByNineJumbo1600.jpg
END:VEVENT
END:VCALENDAR