BEGIN:VCALENDAR
VERSION:2.0
PRODID:-//moustachesociety.com - ECPv6.15.14//NONSGML v1.0//EN
CALSCALE:GREGORIAN
METHOD:PUBLISH
X-ORIGINAL-URL:https://moustachesociety.com
X-WR-CALDESC:Events for moustachesociety.com
REFRESH-INTERVAL;VALUE=DURATION:PT1H
X-Robots-Tag:noindex
X-PUBLISHED-TTL:PT1H
BEGIN:VTIMEZONE
TZID:Asia/Muscat
BEGIN:STANDARD
TZOFFSETFROM:+0400
TZOFFSETTO:+0400
TZNAME:+04
DTSTART:20240101T000000
END:STANDARD
END:VTIMEZONE
BEGIN:VEVENT
DTSTART;TZID=Asia/Muscat:20251225T210000
DTEND;TZID=Asia/Muscat:20251225T220000
DTSTAMP:20260422T195006
CREATED:20251214T175105Z
LAST-MODIFIED:20251225T121259Z
UID:9729-1766696400-1766700000@moustachesociety.com
SUMMARY:8 A Side Football Bowsher 1 OMR per person
DESCRIPTION:Join MMS members for a fun game of football this Thursday from 9 PM to 10 pm \nfor just 1 OMR! It’s a great way to stay active\, meet new people\, and enjoy a friendly match. \nTo confirm your booking\, please pay 1 OMR to 92122934. \nCancellation Policy: \n\nCancellations will only be accepted up to 24 hours before the game.\nIf you cancel after 24 hours\, the full amount will still be due\, regardless of your reservation.\n\nIf the game is cancelled by MMS\, a full refund will be provided.
URL:https://moustachesociety.com/event/8-a-side-football-bowsher-1-omr-per-person/
LOCATION:Amigos Park\, G9QR+RG Muscat\, Oman\, muscat\, G9QR+RG Muscat\, Oman\, Oman
ATTACH;FMTTYPE=image/jpeg:https://moustachesociety.com/wp-content/uploads/2025/09/the-ball-stadion-football-the-pitch-46798-46798-scaled.jpg
END:VEVENT
END:VCALENDAR