BEGIN:VCALENDAR
VERSION:2.0
PRODID:-//moustachesociety.com - ECPv6.15.14//NONSGML v1.0//EN
CALSCALE:GREGORIAN
METHOD:PUBLISH
X-ORIGINAL-URL:https://moustachesociety.com
X-WR-CALDESC:Events for moustachesociety.com
REFRESH-INTERVAL;VALUE=DURATION:PT1H
X-Robots-Tag:noindex
X-PUBLISHED-TTL:PT1H
BEGIN:VTIMEZONE
TZID:Asia/Muscat
BEGIN:STANDARD
TZOFFSETFROM:+0400
TZOFFSETTO:+0400
TZNAME:+04
DTSTART:20240101T000000
END:STANDARD
END:VTIMEZONE
BEGIN:VEVENT
DTSTART;TZID=Asia/Muscat:20251207T140000
DTEND;TZID=Asia/Muscat:20251207T160000
DTSTAMP:20260423T204209
CREATED:20251206T164420Z
LAST-MODIFIED:20251206T164420Z
UID:9686-1765116000-1765123200@moustachesociety.com
SUMMARY:BOARD GAMES AFTERNOON
DESCRIPTION:JOIN AS ON SUNDAY FOR AN AFTERNOON OF BOARD GAMES AT A CHILL CAFE. \nMEET NEW PEOPLE AND MAKE NEW FRIENDS!
URL:https://moustachesociety.com/event/board-games-afternoon/
LOCATION:Moseley Board Game Cafe\, 30 St Mary's Row\, Moseley\, Birmingham B13 8JG\, United Kingdom\, United Kingdom
ATTACH;FMTTYPE=image/jpeg:https://moustachesociety.com/wp-content/uploads/2025/09/IMG_3679.jpg
END:VEVENT
END:VCALENDAR