BEGIN:VCALENDAR
VERSION:2.0
PRODID:-//moustachesociety.com - ECPv6.15.14//NONSGML v1.0//EN
CALSCALE:GREGORIAN
METHOD:PUBLISH
X-ORIGINAL-URL:https://moustachesociety.com
X-WR-CALDESC:Events for moustachesociety.com
REFRESH-INTERVAL;VALUE=DURATION:PT1H
X-Robots-Tag:noindex
X-PUBLISHED-TTL:PT1H
BEGIN:VTIMEZONE
TZID:Asia/Muscat
BEGIN:STANDARD
TZOFFSETFROM:+0400
TZOFFSETTO:+0400
TZNAME:+04
DTSTART:20240101T000000
END:STANDARD
END:VTIMEZONE
BEGIN:VEVENT
DTSTART;TZID=Asia/Muscat:20251203T080000
DTEND;TZID=Asia/Muscat:20251203T170000
DTSTAMP:20260424T020242
CREATED:20251201T131719Z
LAST-MODIFIED:20251201T140853Z
UID:9674-1764748800-1764781200@moustachesociety.com
SUMMARY:Test event
DESCRIPTION:Testing \n 
URL:https://moustachesociety.com/event/test-event/
LOCATION:AMM Sports Arena\, Block No : 252\, SANAIYAH\, Way No : 5207\, Muscat 130\, Oman\, Muscat\, Oman
ATTACH;FMTTYPE=image/jpeg:https://moustachesociety.com/wp-content/uploads/2025/11/Non-Turf-1.jpg
END:VEVENT
END:VCALENDAR