BEGIN:VCALENDAR
VERSION:2.0
PRODID:-//moustachesociety.com - ECPv6.15.20//NONSGML v1.0//EN
CALSCALE:GREGORIAN
METHOD:PUBLISH
X-ORIGINAL-URL:https://moustachesociety.com
X-WR-CALDESC:Events for moustachesociety.com
REFRESH-INTERVAL;VALUE=DURATION:PT1H
X-Robots-Tag:noindex
X-PUBLISHED-TTL:PT1H
BEGIN:VTIMEZONE
TZID:Asia/Muscat
BEGIN:STANDARD
TZOFFSETFROM:+0400
TZOFFSETTO:+0400
TZNAME:+04
DTSTART:20240101T000000
END:STANDARD
END:VTIMEZONE
BEGIN:VEVENT
DTSTART;VALUE=DATE:20251111
DTEND;VALUE=DATE:20251119
DTSTAMP:20260425T001637
CREATED:20251110T183129Z
LAST-MODIFIED:20251110T200240Z
UID:9648-1762819200-1763510399@moustachesociety.com
SUMMARY:CRICKET GROUND BOOKING BOX AND NETS
DESCRIPTION:BOX CRICKET GROUND BOOKING A MAXIMUM OF 10 PLAYERS CAN PLAY AT A TIME PLEASE SELECT DATE OF BOOKING AND ENTER DETAILS AND CONFIRM BOOKING PAY 10 OMR TO 92122934 TO CONFIRM BOOKING FOR NETS 8 OMR PER HOUR WITH MAXIMUM OF 2 PLAYERS
URL:https://moustachesociety.com/event/cricket-ground-booking/
LOCATION:AMM Sports Arena\, Block No : 252\, SANAIYAH\, Way No : 5207\, Muscat 130\, Oman\, Muscat\, Oman
ATTACH;FMTTYPE=image/webp:https://moustachesociety.com/wp-content/uploads/2025/11/converted_image-2025-05-07T222914.648.webp
END:VEVENT
END:VCALENDAR