BEGIN:VCALENDAR
VERSION:2.0
PRODID:-//moustachesociety.com - ECPv6.15.20//NONSGML v1.0//EN
CALSCALE:GREGORIAN
METHOD:PUBLISH
X-ORIGINAL-URL:https://moustachesociety.com
X-WR-CALDESC:Events for moustachesociety.com
REFRESH-INTERVAL;VALUE=DURATION:PT1H
X-Robots-Tag:noindex
X-PUBLISHED-TTL:PT1H
BEGIN:VTIMEZONE
TZID:Asia/Muscat
BEGIN:STANDARD
TZOFFSETFROM:+0400
TZOFFSETTO:+0400
TZNAME:+04
DTSTART:20240101T000000
END:STANDARD
END:VTIMEZONE
BEGIN:VEVENT
DTSTART;TZID=Asia/Muscat:20251030T190000
DTEND;TZID=Asia/Muscat:20251030T210000
DTSTAMP:20260426T011615
CREATED:20251029T201745Z
LAST-MODIFIED:20251029T201745Z
UID:9631-1761850800-1761858000@moustachesociety.com
SUMMARY:Weekly Board Games Night! Free Entry
DESCRIPTION:JOIN THE GANG FOR OUR MOST POPULAR SOCIAL EVENT! THE WEEKLY BOARD GAMES NIGHT WITH A BEAUTIFUL VIEW ITS FREE ENTRY FOR ALL SO BRING AL YOUR FRIENDS AND THEIR FRIENDS AND THEIR FRIENDS TOO!!! SIGN UP NOW
URL:https://moustachesociety.com/event/weekly-board-games-night-free-entry/
LOCATION:Moustache Board Game Cafe\, 8th floor\, Western Primer Hotel\, Al Khuwair St\, Muscat\, Oman
ATTACH;FMTTYPE=image/jpeg:https://moustachesociety.com/wp-content/uploads/2025/09/IMG_3679.jpg
END:VEVENT
END:VCALENDAR